BEGIN:VCALENDAR
VERSION:2.0
PRODID:-//Carlow University - ECPv6.15.20//NONSGML v1.0//EN
CALSCALE:GREGORIAN
METHOD:PUBLISH
X-WR-CALNAME:Carlow University
X-ORIGINAL-URL:https://www.carlow.edu
X-WR-CALDESC:Events for Carlow University
REFRESH-INTERVAL;VALUE=DURATION:PT1H
X-Robots-Tag:noindex
X-PUBLISHED-TTL:PT1H
BEGIN:VTIMEZONE
TZID:America/New_York
BEGIN:DAYLIGHT
TZOFFSETFROM:-0500
TZOFFSETTO:-0400
TZNAME:EDT
DTSTART:20240310T070000
END:DAYLIGHT
BEGIN:STANDARD
TZOFFSETFROM:-0400
TZOFFSETTO:-0500
TZNAME:EST
DTSTART:20241103T060000
END:STANDARD
BEGIN:DAYLIGHT
TZOFFSETFROM:-0500
TZOFFSETTO:-0400
TZNAME:EDT
DTSTART:20250309T070000
END:DAYLIGHT
BEGIN:STANDARD
TZOFFSETFROM:-0400
TZOFFSETTO:-0500
TZNAME:EST
DTSTART:20251102T060000
END:STANDARD
BEGIN:DAYLIGHT
TZOFFSETFROM:-0500
TZOFFSETTO:-0400
TZNAME:EDT
DTSTART:20260308T070000
END:DAYLIGHT
BEGIN:STANDARD
TZOFFSETFROM:-0400
TZOFFSETTO:-0500
TZNAME:EST
DTSTART:20261101T060000
END:STANDARD
END:VTIMEZONE
BEGIN:VEVENT
DTSTART;TZID=America/New_York:20250808T184000
DTEND;TZID=America/New_York:20250808T230000
DTSTAMP:20260425T071439
CREATED:20250707T203358Z
LAST-MODIFIED:20250725T150351Z
UID:32975-1754678400-1754694000@www.carlow.edu
SUMMARY:Disability Pride Day at PNC Park
DESCRIPTION:Celebrate the strength and uniqueness of every fan as we come together to cheer on the Pirates. A portion of every ticket sold will directly benefit a remarkable local non-profit dedicated to empowering individuals and amplifying their voices. \nEnjoy an welcoming and vibrant atmosphere where everyone can share their love for baseball. Plus\, each ticket includes a special Pirates co-branded fidget spinner—a fun keepsake to commemorate the evening! \nCost is $10 for Carlow Community members and their families.
URL:https://www.carlow.edu/event/disability-pride-day-at-pnc-park/
LOCATION:PNC Park\, 115 Federal Street\, Pittsburgh\, PA\, 15212\, United States
CATEGORIES:Athletics,University Event
ATTACH;FMTTYPE=image/jpeg:https://www.carlow.edu/wp-content/uploads/2025/07/Pirates_Students.jpg
END:VEVENT
BEGIN:VEVENT
DTSTART;TZID=America/New_York:20250806T180000
DTEND;TZID=America/New_York:20250806T190000
DTSTAMP:20260425T071439
CREATED:20241219T172914Z
LAST-MODIFIED:20241219T172914Z
UID:31650-1754503200-1754506800@www.carlow.edu
SUMMARY:Virtual Event: Transferring to Carlow
DESCRIPTION:This event is an informational session for students considering transferring to Carlow. 
URL:https://www.carlow.edu/event/virtual-event-transferring-to-carlow-18/
LOCATION:Online
CATEGORIES:Enrollment Events
ATTACH;FMTTYPE=image/jpeg:https://www.carlow.edu/wp-content/uploads/2023/12/Carlow_ADM_SocialGraphics_Carlow_ADM-Social_UpcomingEnrollmentEvent.jpg
END:VEVENT
BEGIN:VEVENT
DTSTART;TZID=America/New_York:20250802T100000
DTEND;TZID=America/New_York:20250802T130000
DTSTAMP:20260425T071439
CREATED:20250627T141348Z
LAST-MODIFIED:20250627T141348Z
UID:32916-1754128800-1754139600@www.carlow.edu
SUMMARY:Grillin’ on the Green
DESCRIPTION:High school students and their guests are invited to take an introductory look at Carlow this summer and discover what it means to become a Celtic. Visitors will take part in an admissions overview presentation\, campus walking tour\, and cookout lunch.  \nRegister:  \nhttps://admissions.carlow.edu/register/?id=7c50a4e1-0d07-4f7a-b59c-167c54eb90b1  
URL:https://www.carlow.edu/event/grillin-on-the-green-2/
LOCATION:Gailliot Center\, 3333 Fifth Avenue\, Pittsburgh\, PA\, 15213\, United States
CATEGORIES:Enrollment Events
END:VEVENT
BEGIN:VEVENT
DTSTART;VALUE=DATE:20250616
DTEND;VALUE=DATE:20250805
DTSTAMP:20260425T071439
CREATED:20250211T181158Z
LAST-MODIFIED:20250211T182031Z
UID:32045-1750032000-1754351999@www.carlow.edu
SUMMARY:READ 766 Children and the Media
DESCRIPTION:This course reviews research on young children’s media use\, addressing debates over early tech skills and concerns about two-dimensional screen exposure affecting brain development. Learners will examine media’s social impact on children and review recommendations on media use from professional organizations. \nInstructor: Shellie Grooms | Mondays
URL:https://www.carlow.edu/event/read-766-children-and-the-media/
LOCATION:Carlow University\, 3333 Fifth Avenue\, Pittsburgh\, PA\, 15213\, United States
CATEGORIES:Education Department Events
ATTACH;FMTTYPE=image/jpeg:https://www.carlow.edu/wp-content/uploads/2023/12/Carlow_ADM_SocialGraphics_Carlow_ADM-Social_EducationDepartmentEvent.jpg
END:VEVENT
END:VCALENDAR