BEGIN:VCALENDAR
VERSION:2.0
PRODID:-//Carlow University - ECPv6.15.20//NONSGML v1.0//EN
CALSCALE:GREGORIAN
METHOD:PUBLISH
X-ORIGINAL-URL:https://www.carlow.edu
X-WR-CALDESC:Events for Carlow University
REFRESH-INTERVAL;VALUE=DURATION:PT1H
X-Robots-Tag:noindex
X-PUBLISHED-TTL:PT1H
BEGIN:VTIMEZONE
TZID:America/New_York
BEGIN:DAYLIGHT
TZOFFSETFROM:-0500
TZOFFSETTO:-0400
TZNAME:EDT
DTSTART:20240310T070000
END:DAYLIGHT
BEGIN:STANDARD
TZOFFSETFROM:-0400
TZOFFSETTO:-0500
TZNAME:EST
DTSTART:20241103T060000
END:STANDARD
BEGIN:DAYLIGHT
TZOFFSETFROM:-0500
TZOFFSETTO:-0400
TZNAME:EDT
DTSTART:20250309T070000
END:DAYLIGHT
BEGIN:STANDARD
TZOFFSETFROM:-0400
TZOFFSETTO:-0500
TZNAME:EST
DTSTART:20251102T060000
END:STANDARD
BEGIN:DAYLIGHT
TZOFFSETFROM:-0500
TZOFFSETTO:-0400
TZNAME:EDT
DTSTART:20260308T070000
END:DAYLIGHT
BEGIN:STANDARD
TZOFFSETFROM:-0400
TZOFFSETTO:-0500
TZNAME:EST
DTSTART:20261101T060000
END:STANDARD
END:VTIMEZONE
BEGIN:VEVENT
DTSTART;TZID=America/New_York:20250723T180000
DTEND;TZID=America/New_York:20250723T190000
DTSTAMP:20260423T055347
CREATED:20241219T172708Z
LAST-MODIFIED:20241219T172708Z
UID:31649-1753293600-1753297200@www.carlow.edu
SUMMARY:Virtual Event: Graduate Health Sciences Virtual Open House
DESCRIPTION:Join us for a brief overview of Carlow University and the admissions process\, followed by breakout sessions led by program directors to focus on one of our graduate health science programs. Learn about our graduate programs in speech-language pathology (MS)\, physician assistant (MS)\, occupational therapy (MS/OTD)\, and physical therapy (DPT)! 
URL:https://www.carlow.edu/event/virtual-event-graduate-health-sciences-virtual-open-house-2/
LOCATION:Online
CATEGORIES:Enrollment Events
ATTACH;FMTTYPE=image/jpeg:https://www.carlow.edu/wp-content/uploads/2023/12/Carlow_ADM_SocialGraphics_Carlow_ADM-Social_UpcomingEnrollmentEvent.jpg
END:VEVENT
END:VCALENDAR