BEGIN:VCALENDAR
VERSION:2.0
PRODID:-//Carlow University - ECPv6.15.20//NONSGML v1.0//EN
CALSCALE:GREGORIAN
METHOD:PUBLISH
X-WR-CALNAME:Carlow University
X-ORIGINAL-URL:https://www.carlow.edu
X-WR-CALDESC:Events for Carlow University
REFRESH-INTERVAL;VALUE=DURATION:PT1H
X-Robots-Tag:noindex
X-PUBLISHED-TTL:PT1H
BEGIN:VTIMEZONE
TZID:America/New_York
BEGIN:DAYLIGHT
TZOFFSETFROM:-0500
TZOFFSETTO:-0400
TZNAME:EDT
DTSTART:20250309T070000
END:DAYLIGHT
BEGIN:STANDARD
TZOFFSETFROM:-0400
TZOFFSETTO:-0500
TZNAME:EST
DTSTART:20251102T060000
END:STANDARD
BEGIN:DAYLIGHT
TZOFFSETFROM:-0500
TZOFFSETTO:-0400
TZNAME:EDT
DTSTART:20260308T070000
END:DAYLIGHT
BEGIN:STANDARD
TZOFFSETFROM:-0400
TZOFFSETTO:-0500
TZNAME:EST
DTSTART:20261101T060000
END:STANDARD
BEGIN:DAYLIGHT
TZOFFSETFROM:-0500
TZOFFSETTO:-0400
TZNAME:EDT
DTSTART:20270314T070000
END:DAYLIGHT
BEGIN:STANDARD
TZOFFSETFROM:-0400
TZOFFSETTO:-0500
TZNAME:EST
DTSTART:20271107T060000
END:STANDARD
END:VTIMEZONE
BEGIN:VEVENT
DTSTART;TZID=America/New_York:20260107T180000
DTEND;TZID=America/New_York:20260107T190000
DTSTAMP:20260423T071123
CREATED:20251202T214054Z
LAST-MODIFIED:20251202T214054Z
UID:33839-1767808800-1767812400@www.carlow.edu
SUMMARY:Virtual Event: Transferring to Carlow
DESCRIPTION:Engage with admissions staff\, faculty\, current students\, and other members of the Carlow community from the comfort of home! This event is an informational session for students considering transferring to Carlow.
URL:https://www.carlow.edu/event/virtual-event-transferring-to-carlow-2/
LOCATION:Online
CATEGORIES:Enrollment Events
END:VEVENT
END:VCALENDAR