BEGIN:VCALENDAR
VERSION:2.0
PRODID:-//Carlow University - ECPv6.15.20//NONSGML v1.0//EN
CALSCALE:GREGORIAN
METHOD:PUBLISH
X-ORIGINAL-URL:https://www.carlow.edu
X-WR-CALDESC:Events for Carlow University
REFRESH-INTERVAL;VALUE=DURATION:PT1H
X-Robots-Tag:noindex
X-PUBLISHED-TTL:PT1H
BEGIN:VTIMEZONE
TZID:America/New_York
BEGIN:DAYLIGHT
TZOFFSETFROM:-0500
TZOFFSETTO:-0400
TZNAME:EDT
DTSTART:20240310T070000
END:DAYLIGHT
BEGIN:STANDARD
TZOFFSETFROM:-0400
TZOFFSETTO:-0500
TZNAME:EST
DTSTART:20241103T060000
END:STANDARD
BEGIN:DAYLIGHT
TZOFFSETFROM:-0500
TZOFFSETTO:-0400
TZNAME:EDT
DTSTART:20250309T070000
END:DAYLIGHT
BEGIN:STANDARD
TZOFFSETFROM:-0400
TZOFFSETTO:-0500
TZNAME:EST
DTSTART:20251102T060000
END:STANDARD
BEGIN:DAYLIGHT
TZOFFSETFROM:-0500
TZOFFSETTO:-0400
TZNAME:EDT
DTSTART:20260308T070000
END:DAYLIGHT
BEGIN:STANDARD
TZOFFSETFROM:-0400
TZOFFSETTO:-0500
TZNAME:EST
DTSTART:20261101T060000
END:STANDARD
END:VTIMEZONE
BEGIN:VEVENT
DTSTART;TZID=America/New_York:20251115T090000
DTEND;TZID=America/New_York:20251115T140000
DTSTAMP:20260421T092033
CREATED:20250905T183132Z
LAST-MODIFIED:20250923T185044Z
UID:33319-1763197200-1763215200@www.carlow.edu
SUMMARY:Undergraduate Nursing Visit Day
DESCRIPTION:Experience one of Carlow’s most popular and reputable undergraduate programs with our Nursing Visit Day! Students and guests will take part in interactive sessions with our nursing faculty in our renovated simulation spaces\, take a campus tour\, learn more about Carlow and the College of Health and Wellness\, and enjoy lunch.   \n\ \n 
URL:https://www.carlow.edu/event/undergraduate-nursing-visit-day/
LOCATION:A.J. Palumbo Hall of Science and Technology\, 3305 Fifth Ave\, Pittsburgh\, PA\, 15213\, United States
CATEGORIES:Enrollment Events
ATTACH;FMTTYPE=image/jpeg:https://www.carlow.edu/wp-content/uploads/2023/12/Carlow_ADM_SocialGraphics_Carlow_ADM-Social_UpcomingEvent.jpg
END:VEVENT
BEGIN:VEVENT
DTSTART;TZID=America/New_York:20251118T180000
DTEND;TZID=America/New_York:20251118T190000
DTSTAMP:20260421T092033
CREATED:20251117T205511Z
LAST-MODIFIED:20251117T205511Z
UID:33790-1763488800-1763492400@www.carlow.edu
SUMMARY:Virtual Event: Ask Us Anything!
DESCRIPTION:Transfer\, adult and graduate students are invited to a live online Q&A with some current Carlow students. Bring questions!  \nRegister here
URL:https://www.carlow.edu/event/virtual-event-ask-us-anything/
LOCATION:Online
CATEGORIES:Enrollment Events
ORGANIZER;CN="Admissions":MAILTO:admissions@carlow.edu
END:VEVENT
BEGIN:VEVENT
DTSTART;TZID=America/New_York:20251122T090000
DTEND;TZID=America/New_York:20251122T110000
DTSTAMP:20260421T092033
CREATED:20250905T183302Z
LAST-MODIFIED:20250919T141602Z
UID:33321-1763802000-1763809200@www.carlow.edu
SUMMARY:Saturday Visit Day
DESCRIPTION:Enjoy a student-led tour of campus and learn more about Carlow and the enrollment process. 
URL:https://www.carlow.edu/event/saturday-visit-day/
LOCATION:A.J. Palumbo Hall of Science and Technology\, 3305 Fifth Ave\, Pittsburgh\, PA\, 15213\, United States
CATEGORIES:Enrollment Events
ATTACH;FMTTYPE=image/jpeg:https://www.carlow.edu/wp-content/uploads/2024/02/Carlow_ADM_SocialGraphics_UpcomingEvent_6.jpg
END:VEVENT
END:VCALENDAR