BEGIN:VCALENDAR
VERSION:2.0
PRODID:-//Carlow University - ECPv6.15.20//NONSGML v1.0//EN
CALSCALE:GREGORIAN
METHOD:PUBLISH
X-WR-CALNAME:Carlow University
X-ORIGINAL-URL:https://www.carlow.edu
X-WR-CALDESC:Events for Carlow University
REFRESH-INTERVAL;VALUE=DURATION:PT1H
X-Robots-Tag:noindex
X-PUBLISHED-TTL:PT1H
BEGIN:VTIMEZONE
TZID:America/New_York
BEGIN:DAYLIGHT
TZOFFSETFROM:-0500
TZOFFSETTO:-0400
TZNAME:EDT
DTSTART:20240310T070000
END:DAYLIGHT
BEGIN:STANDARD
TZOFFSETFROM:-0400
TZOFFSETTO:-0500
TZNAME:EST
DTSTART:20241103T060000
END:STANDARD
BEGIN:DAYLIGHT
TZOFFSETFROM:-0500
TZOFFSETTO:-0400
TZNAME:EDT
DTSTART:20250309T070000
END:DAYLIGHT
BEGIN:STANDARD
TZOFFSETFROM:-0400
TZOFFSETTO:-0500
TZNAME:EST
DTSTART:20251102T060000
END:STANDARD
BEGIN:DAYLIGHT
TZOFFSETFROM:-0500
TZOFFSETTO:-0400
TZNAME:EDT
DTSTART:20260308T070000
END:DAYLIGHT
BEGIN:STANDARD
TZOFFSETFROM:-0400
TZOFFSETTO:-0500
TZNAME:EST
DTSTART:20261101T060000
END:STANDARD
END:VTIMEZONE
BEGIN:VEVENT
DTSTART;TZID=America/New_York:20251204T180000
DTEND;TZID=America/New_York:20251204T190000
DTSTAMP:20260421T055947
CREATED:20251117T205747Z
LAST-MODIFIED:20251117T205747Z
UID:33793-1764871200-1764874800@www.carlow.edu
SUMMARY:Virtual Event: Transferring to Carlow
DESCRIPTION:Engage with admissions staff\, faculty\, current students\, and other members of the Carlow community from the comfort of home! This event is an informational session for students considering transferring to Carlow.   \nRegister here
URL:https://www.carlow.edu/event/virtual-event-transferring-to-carlow/
LOCATION:Online
CATEGORIES:Enrollment Events
ORGANIZER;CN="Admissions":MAILTO:admissions@carlow.edu
END:VEVENT
END:VCALENDAR